BEGIN:VCALENDAR
VERSION:2.0
PRODID:icalendar-ruby
CALSCALE:GREGORIAN
METHOD:PUBLISH
BEGIN:VEVENT
DTSTAMP:20260421T190651Z
UID:9f231c51-7d28-45e1-bcd8-b4265e092e9a
DTSTART;VALUE=DATE:20151207
DTEND;VALUE=DATE:20151207
DESCRIPTION:Cross Creek BMX
LOCATION:8115 Parkglen Dr.  Fountain CO 80817 USA
SUMMARY:Practice
URL:/site/bmx_races/272870
END:VEVENT
END:VCALENDAR
