BEGIN:VCALENDAR
VERSION:2.0
PRODID:icalendar-ruby
CALSCALE:GREGORIAN
METHOD:PUBLISH
BEGIN:VEVENT
DTSTAMP:20260425T174916Z
UID:7996d9e1-a5b7-4d6a-948a-f404643fa2cf
DTSTART;VALUE=DATE:20150621
DTEND;VALUE=DATE:20150621
DESCRIPTION:Grand Valley BMX
LOCATION:2785 U.S. Highway 50  Grand Junction CO 81503 USA
SUMMARY:Clinic
URL:/site/bmx_races/272909
END:VEVENT
END:VCALENDAR
