BEGIN:VCALENDAR
VERSION:2.0
PRODID:icalendar-ruby
CALSCALE:GREGORIAN
METHOD:PUBLISH
BEGIN:VEVENT
DTSTAMP:20260421T172011Z
UID:131ff5d0-8c6b-4173-837f-f48fd155b7c9
DTSTART;VALUE=DATE:20150716
DTEND;VALUE=DATE:20150716
DESCRIPTION:Fastrax BMX
LOCATION:2800 S 12th St  Bismarck ND 58504 USA
SUMMARY:Local Race Single
URL:/site/bmx_races/272985
END:VEVENT
END:VCALENDAR
