BEGIN:VCALENDAR
VERSION:2.0
PRODID:icalendar-ruby
CALSCALE:GREGORIAN
METHOD:PUBLISH
BEGIN:VEVENT
DTSTAMP:20260421T141622Z
UID:c4a380d0-4f99-4f96-86af-5f26546f7956
DTSTART;VALUE=DATE:20150920
DTEND;VALUE=DATE:20150920
DESCRIPTION:Fastrax BMX
LOCATION:2800 S 12th St  Bismarck ND 58504 USA
SUMMARY:Local Race Single
URL:/site/bmx_races/272998
END:VEVENT
END:VCALENDAR
