BEGIN:VCALENDAR
VERSION:2.0
PRODID:icalendar-ruby
CALSCALE:GREGORIAN
METHOD:PUBLISH
BEGIN:VEVENT
DTSTAMP:20260420T162459Z
UID:b3ebd50a-2ca7-4046-8443-5bb5f3c7c687
DTSTART;VALUE=DATE:20150218
DTEND;VALUE=DATE:20150218
DESCRIPTION:Colorado River BMX
LOCATION:2230 Highland Dr  Bullhead City AZ 86442 USA
SUMMARY:Local Race Single
URL:/site/bmx_races/273315
END:VEVENT
END:VCALENDAR
