BEGIN:VCALENDAR
VERSION:2.0
PRODID:icalendar-ruby
CALSCALE:GREGORIAN
METHOD:PUBLISH
BEGIN:VEVENT
DTSTAMP:20260424T190122Z
UID:567688f8-6faa-4686-b047-c78aab262847
DTSTART;VALUE=DATE:20150911
DTEND;VALUE=DATE:20150911
DESCRIPTION:River City BMX
LOCATION:251 Ne Agness  Grants Pass OR 97526 USA
SUMMARY:Warnicke Double
URL:/site/bmx_races/273557
END:VEVENT
END:VCALENDAR
