BEGIN:VCALENDAR
VERSION:2.0
PRODID:icalendar-ruby
CALSCALE:GREGORIAN
METHOD:PUBLISH
BEGIN:VEVENT
DTSTAMP:20260420T162458Z
UID:0f5a867b-5aca-429d-ac98-047b6658424d
DTSTART;VALUE=DATE:20150214
DTEND;VALUE=DATE:20150214
DESCRIPTION:Colorado River BMX
LOCATION:2230 Highland Dr  Bullhead City AZ 86442 USA
SUMMARY:Local Race Single
URL:/site/bmx_races/273822
END:VEVENT
END:VCALENDAR
