BEGIN:VCALENDAR
VERSION:2.0
PRODID:icalendar-ruby
CALSCALE:GREGORIAN
METHOD:PUBLISH
BEGIN:VEVENT
DTSTAMP:20260419T155452Z
UID:acc623e1-9434-4342-8605-115bb95a488f
DTSTART;VALUE=DATE:20150711
DTEND;VALUE=DATE:20150711
DESCRIPTION:Bradley BMX
LOCATION:234 Urbane Rd  Cleveland TN 37312 USA
SUMMARY:Local Race Single
URL:/site/bmx_races/274339
END:VEVENT
END:VCALENDAR
