BEGIN:VCALENDAR
VERSION:2.0
PRODID:icalendar-ruby
CALSCALE:GREGORIAN
METHOD:PUBLISH
BEGIN:VEVENT
DTSTAMP:20260421T164939Z
UID:5acf763e-1fd7-4370-a342-7a9a67880c78
DTSTART;VALUE=DATE:20150309
DTEND;VALUE=DATE:20150309
DESCRIPTION:Whitney Mesa BMX
LOCATION:1575 Galleria Dr  Henderson NV 89014 USA
SUMMARY:Local Race Single
URL:/site/bmx_races/274566
END:VEVENT
END:VCALENDAR
