BEGIN:VCALENDAR
VERSION:2.0
PRODID:icalendar-ruby
CALSCALE:GREGORIAN
METHOD:PUBLISH
BEGIN:VEVENT
DTSTAMP:20260423T062121Z
UID:3e413541-fe22-462d-aad5-812a9e376f30
DTSTART;VALUE=DATE:20150430
DTEND;VALUE=DATE:20150430
DESCRIPTION:Lone Star BMX
LOCATION:3950 Eisenhauer Rd  San Antonio TX 78218 USA
SUMMARY:Local Race Single
URL:/site/bmx_races/274988
END:VEVENT
END:VCALENDAR
