BEGIN:VCALENDAR
VERSION:2.0
PRODID:icalendar-ruby
CALSCALE:GREGORIAN
METHOD:PUBLISH
BEGIN:VEVENT
DTSTAMP:20260422T150016Z
UID:74eb2d62-de59-43c6-b078-37d26571f275
DTSTART;VALUE=DATE:20151008
DTEND;VALUE=DATE:20151008
DESCRIPTION:Sandy Ridge BMX
LOCATION:1200 Keys Ferry Rd  McDonough GA 30253 USA
SUMMARY:Practice
URL:/site/bmx_races/276183
END:VEVENT
END:VCALENDAR
