BEGIN:VCALENDAR
VERSION:2.0
PRODID:icalendar-ruby
CALSCALE:GREGORIAN
METHOD:PUBLISH
BEGIN:VEVENT
DTSTAMP:20260425T170740Z
UID:207ea5b2-b544-4a39-bc99-054b36450ec6
DTSTART;VALUE=DATE:20150619
DTEND;VALUE=DATE:20150619
DESCRIPTION:Cargill Park BMX
LOCATION:2800 Cargill Drive  Shreveport LA 71108 USA
SUMMARY:Practice
URL:/site/bmx_races/276754
END:VEVENT
END:VCALENDAR
