BEGIN:VCALENDAR
VERSION:2.0
PRODID:icalendar-ruby
CALSCALE:GREGORIAN
METHOD:PUBLISH
BEGIN:VEVENT
DTSTAMP:20260425T170648Z
UID:41237634-aab8-4c79-924b-2b46cbaf2d63
DTSTART;VALUE=DATE:20150613
DTEND;VALUE=DATE:20150613
DESCRIPTION:Cargill Park BMX
LOCATION:2800 Cargill Drive  Shreveport LA 71108 USA
SUMMARY:Local Race Single
URL:/site/bmx_races/276801
END:VEVENT
END:VCALENDAR
