BEGIN:VCALENDAR
VERSION:2.0
PRODID:icalendar-ruby
CALSCALE:GREGORIAN
METHOD:PUBLISH
BEGIN:VEVENT
DTSTAMP:20260424T060551Z
UID:2fdb9aa4-70ff-4701-bb42-3573cc4c42a1
DTSTART;VALUE=DATE:20150904
DTEND;VALUE=DATE:20150904
DESCRIPTION:Aberdeen Hub Area BMX
LOCATION:1111 1st Ave Se  Aberdeen SD 57401 USA
SUMMARY:Earned Double
URL:/site/bmx_races/276833
END:VEVENT
END:VCALENDAR
