BEGIN:VCALENDAR
VERSION:2.0
PRODID:icalendar-ruby
CALSCALE:GREGORIAN
METHOD:PUBLISH
BEGIN:VEVENT
DTSTAMP:20260424T173429Z
UID:7dd60632-9307-43ea-918b-1f98a0f68eff
DTSTART;VALUE=DATE:20150612
DTEND;VALUE=DATE:20150612
DESCRIPTION:Peninsula Indoor BMX
LOCATION:5867 Dogwood Road Se  Port Orchard WA 98367 USA
SUMMARY:Local Race Single
URL:/site/bmx_races/277447
END:VEVENT
END:VCALENDAR
