BEGIN:VCALENDAR
VERSION:2.0
PRODID:icalendar-ruby
CALSCALE:GREGORIAN
METHOD:PUBLISH
BEGIN:VEVENT
DTSTAMP:20260424T161226Z
UID:ca6ddbdd-611d-476a-9a4a-d978e63a10eb
DTSTART;VALUE=DATE:20150717
DTEND;VALUE=DATE:20150717
DESCRIPTION:Peninsula Indoor BMX
LOCATION:5867 Dogwood Road Se  Port Orchard WA 98367 USA
SUMMARY:Local Race Single
URL:/site/bmx_races/277452
END:VEVENT
END:VCALENDAR
