BEGIN:VCALENDAR
VERSION:2.0
PRODID:icalendar-ruby
CALSCALE:GREGORIAN
METHOD:PUBLISH
BEGIN:VEVENT
DTSTAMP:20260424T161301Z
UID:46a76ec8-1904-4cfc-8fcf-50fb89f2d6b0
DTSTART;VALUE=DATE:20150724
DTEND;VALUE=DATE:20150724
DESCRIPTION:Peninsula Indoor BMX
LOCATION:5867 Dogwood Road Se  Port Orchard WA 98367 USA
SUMMARY:Local Race Single
URL:/site/bmx_races/277453
END:VEVENT
END:VCALENDAR
