BEGIN:VCALENDAR
VERSION:2.0
PRODID:icalendar-ruby
CALSCALE:GREGORIAN
METHOD:PUBLISH
BEGIN:VEVENT
DTSTAMP:20260422T150118Z
UID:ebfa8187-0f5c-425f-9fdc-9680f6b02ffa
DTSTART;VALUE=DATE:20150430
DTEND;VALUE=DATE:20150430
DESCRIPTION:Lexington BMX
LOCATION:1159 Nazareth Road  Lexington SC 29073 USA
SUMMARY:Practice
URL:/site/bmx_races/278431
END:VEVENT
END:VCALENDAR
