BEGIN:VCALENDAR
VERSION:2.0
PRODID:icalendar-ruby
CALSCALE:GREGORIAN
METHOD:PUBLISH
BEGIN:VEVENT
DTSTAMP:20260422T083153Z
UID:4214be83-2092-4b9a-ba17-1e7091bb6df3
DTSTART;VALUE=DATE:20150827
DTEND;VALUE=DATE:20150827
DESCRIPTION:Lexington BMX
LOCATION:1159 Nazareth Road  Lexington SC 29073 USA
SUMMARY:Practice
URL:/site/bmx_races/278448
END:VEVENT
END:VCALENDAR
