BEGIN:VCALENDAR
VERSION:2.0
PRODID:icalendar-ruby
CALSCALE:GREGORIAN
METHOD:PUBLISH
BEGIN:VEVENT
DTSTAMP:20260423T021719Z
UID:bbadf76d-3a5a-431b-9e43-22d84ce908e4
DTSTART;VALUE=DATE:20110102
DTEND;VALUE=DATE:20110102
DESCRIPTION:Oak Creek BMX
LOCATION:648 Riverside Ave  Roseville CA 95678 USA
SUMMARY:Standard Single
URL:/site/bmx_races/278971
END:VEVENT
END:VCALENDAR
