BEGIN:VCALENDAR
VERSION:2.0
PRODID:icalendar-ruby
CALSCALE:GREGORIAN
METHOD:PUBLISH
BEGIN:VEVENT
DTSTAMP:20260423T232802Z
UID:c504de78-659d-420a-8441-ac64cd7412ec
DTSTART;VALUE=DATE:20110113
DTEND;VALUE=DATE:20110113
DESCRIPTION:Colorado River BMX
LOCATION:2230 Highland Dr  Bullhead City AZ 86442 USA
SUMMARY:Standard Single
URL:/site/bmx_races/279317
END:VEVENT
END:VCALENDAR
