BEGIN:VCALENDAR
VERSION:2.0
PRODID:icalendar-ruby
CALSCALE:GREGORIAN
METHOD:PUBLISH
BEGIN:VEVENT
DTSTAMP:20260423T232759Z
UID:9f59c4cc-a512-471d-ba71-e023ee3bc67b
DTSTART;VALUE=DATE:20110219
DTEND;VALUE=DATE:20110219
DESCRIPTION:Colorado River BMX
LOCATION:2230 Highland Dr  Bullhead City AZ 86442 USA
SUMMARY:Standard Single
URL:/site/bmx_races/279358
END:VEVENT
END:VCALENDAR
