BEGIN:VCALENDAR
VERSION:2.0
PRODID:icalendar-ruby
CALSCALE:GREGORIAN
METHOD:PUBLISH
BEGIN:VEVENT
DTSTAMP:20260425T140103Z
UID:5322ccd7-0f4d-4761-a2dc-cf396882934f
DTSTART;VALUE=DATE:20150707
DTEND;VALUE=DATE:20150707
DESCRIPTION:Marquette BMX
LOCATION:910 Hawley Street  Marquette MI 49855 USA
SUMMARY:Local Race Single
URL:/site/bmx_races/279618
END:VEVENT
END:VCALENDAR
