BEGIN:VCALENDAR
VERSION:2.0
PRODID:icalendar-ruby
CALSCALE:GREGORIAN
METHOD:PUBLISH
BEGIN:VEVENT
DTSTAMP:20260425T122447Z
UID:9e5e558d-c02e-4380-923a-3960bed2c6fd
DTSTART;VALUE=DATE:20150825
DTEND;VALUE=DATE:20150825
DESCRIPTION:Marquette BMX
LOCATION:910 Hawley Street  Marquette MI 49855 USA
SUMMARY:Local Race Single
URL:/site/bmx_races/279631
END:VEVENT
END:VCALENDAR
