BEGIN:VCALENDAR
VERSION:2.0
PRODID:icalendar-ruby
CALSCALE:GREGORIAN
METHOD:PUBLISH
BEGIN:VEVENT
DTSTAMP:20260426T035909Z
UID:6d9ae8bd-34f6-4943-8791-a86bc50536ac
DTSTART;VALUE=DATE:20150201
DTEND;VALUE=DATE:20150201
DESCRIPTION:Dayton Indoor BMX
LOCATION:16 Edmund St  Dayton OH 45404-1668 USA
SUMMARY:Standard Single
URL:/site/bmx_races/279770
END:VEVENT
END:VCALENDAR
