BEGIN:VCALENDAR
VERSION:2.0
PRODID:icalendar-ruby
CALSCALE:GREGORIAN
METHOD:PUBLISH
BEGIN:VEVENT
DTSTAMP:20260419T190433Z
UID:9d1ccacb-d42c-4161-a15d-3fd3219e2445
DTSTART;VALUE=DATE:20150630
DTEND;VALUE=DATE:20150630
DESCRIPTION:Winchester BMX
LOCATION:1001 E. Cork Street  Winchester VA 22601 USA
SUMMARY:Olympic Day Single
URL:/site/bmx_races/280337
END:VEVENT
END:VCALENDAR
