BEGIN:VCALENDAR
VERSION:2.0
PRODID:icalendar-ruby
CALSCALE:GREGORIAN
METHOD:PUBLISH
BEGIN:VEVENT
DTSTAMP:20260422T054240Z
UID:c716997c-4ad3-4c74-8c7f-aeb81ae1ac9d
DTSTART;VALUE=DATE:20150805
DTEND;VALUE=DATE:20150805
DESCRIPTION:Naples BMX
LOCATION:4701 Golden Gate Parkway  Naples FL 34116 USA
SUMMARY:Practice
URL:/site/bmx_races/281757
END:VEVENT
END:VCALENDAR
