BEGIN:VCALENDAR
VERSION:2.0
PRODID:icalendar-ruby
CALSCALE:GREGORIAN
METHOD:PUBLISH
BEGIN:VEVENT
DTSTAMP:20260422T054317Z
UID:e2ea5a65-9925-4ed9-9994-dcffa662f4e8
DTSTART;VALUE=DATE:20150810
DTEND;VALUE=DATE:20150810
DESCRIPTION:Naples BMX
LOCATION:4701 Golden Gate Parkway  Naples FL 34116 USA
SUMMARY:Practice
URL:/site/bmx_races/281759
END:VEVENT
END:VCALENDAR
