BEGIN:VCALENDAR
VERSION:2.0
PRODID:icalendar-ruby
CALSCALE:GREGORIAN
METHOD:PUBLISH
BEGIN:VEVENT
DTSTAMP:20260422T054217Z
UID:cd6c4ee4-8135-4f33-9691-6660c16fd9fe
DTSTART;VALUE=DATE:20150831
DTEND;VALUE=DATE:20150831
DESCRIPTION:Naples BMX
LOCATION:4701 Golden Gate Parkway  Naples FL 34116 USA
SUMMARY:Practice
URL:/site/bmx_races/281768
END:VEVENT
END:VCALENDAR
