BEGIN:VCALENDAR
VERSION:2.0
PRODID:icalendar-ruby
CALSCALE:GREGORIAN
METHOD:PUBLISH
BEGIN:VEVENT
DTSTAMP:20260422T132114Z
UID:6504a717-b90a-4178-9063-cb055616159a
DTSTART;VALUE=DATE:20150924
DTEND;VALUE=DATE:20150924
DESCRIPTION:Indy Cycloplex BMX
LOCATION:3649 Cold Spring Road  Adjacent To The Major Taylor Velodrome INDI
 ANAPOLIS IN 46222 USA
SUMMARY:Practice
URL:/site/bmx_races/282610
END:VEVENT
END:VCALENDAR
