BEGIN:VCALENDAR
VERSION:2.0
PRODID:icalendar-ruby
CALSCALE:GREGORIAN
METHOD:PUBLISH
BEGIN:VEVENT
DTSTAMP:20260419T200355Z
UID:a2ec7ace-5ed6-4fcf-bb2c-c9400e920061
DTSTART;VALUE=DATE:20150202
DTEND;VALUE=DATE:20150202
DESCRIPTION:Cactus Park BMX
LOCATION:10610 Ashwood St  Lakeside CA 92040 USA
SUMMARY:Standard Single
URL:/site/bmx_races/283673
END:VEVENT
END:VCALENDAR
