BEGIN:VCALENDAR
VERSION:2.0
PRODID:icalendar-ruby
CALSCALE:GREGORIAN
METHOD:PUBLISH
BEGIN:VEVENT
DTSTAMP:20260424T112917Z
UID:f9b0321c-5cfb-44f0-8378-2716ea022740
DTSTART;VALUE=DATE:20150209
DTEND;VALUE=DATE:20150209
DESCRIPTION:Cactus Park BMX
LOCATION:10610 Ashwood St  Lakeside CA 92040 USA
SUMMARY:Standard Single
URL:/site/bmx_races/283690
END:VEVENT
END:VCALENDAR
