BEGIN:VCALENDAR
VERSION:2.0
PRODID:icalendar-ruby
CALSCALE:GREGORIAN
METHOD:PUBLISH
BEGIN:VEVENT
DTSTAMP:20260425T170742Z
UID:6236b6c9-d0b2-49ff-88de-0373ba70070c
DTSTART;VALUE=DATE:20150918
DTEND;VALUE=DATE:20150918
DESCRIPTION:80/35 BMX
LOCATION:1701 E Mc Kinley Ave  Des Moines IA 50320 USA
SUMMARY:Local Race Single
URL:/site/bmx_races/283855
END:VEVENT
END:VCALENDAR
