BEGIN:VCALENDAR
VERSION:2.0
PRODID:icalendar-ruby
CALSCALE:GREGORIAN
METHOD:PUBLISH
BEGIN:VEVENT
DTSTAMP:20260421T234216Z
UID:b1caf3ea-6cbf-4874-9d04-6a7353aa4eb0
DTSTART;VALUE=DATE:20151204
DTEND;VALUE=DATE:20151204
DESCRIPTION:Naples BMX
LOCATION:4701 Golden Gate Parkway  Naples FL 34116 USA
SUMMARY:Local Race Single
URL:/site/bmx_races/284071
END:VEVENT
END:VCALENDAR
