BEGIN:VCALENDAR
VERSION:2.0
PRODID:icalendar-ruby
CALSCALE:GREGORIAN
METHOD:PUBLISH
BEGIN:VEVENT
DTSTAMP:20260421T010350Z
UID:f4f028a4-8ba1-4741-a4dd-29a76a4f4ed7
DTSTART;VALUE=DATE:20150429
DTEND;VALUE=DATE:20150429
DESCRIPTION:Westerville BMX
LOCATION:535 Park Meadow Road  Westerville OH 43081 USA
SUMMARY:Practice
URL:/site/bmx_races/284406
END:VEVENT
END:VCALENDAR
