BEGIN:VCALENDAR
VERSION:2.0
PRODID:icalendar-ruby
CALSCALE:GREGORIAN
METHOD:PUBLISH
BEGIN:VEVENT
DTSTAMP:20260426T005405Z
UID:f1ba7a41-6864-4169-aa51-4f003dcbd437
DTSTART;VALUE=DATE:20151016
DTEND;VALUE=DATE:20151016
DESCRIPTION:Goodyear BMX Raceway
LOCATION:15660 W Roeser Rd  Goodyear AZ 85338 USA
SUMMARY:Clinic
URL:/site/bmx_races/284505
END:VEVENT
END:VCALENDAR
