BEGIN:VCALENDAR
VERSION:2.0
PRODID:icalendar-ruby
CALSCALE:GREGORIAN
METHOD:PUBLISH
BEGIN:VEVENT
DTSTAMP:20260424T222209Z
UID:e6ecc6cb-13ba-41a3-8633-3f4e242bf0bf
DTSTART;VALUE=DATE:20150511
DTEND;VALUE=DATE:20150511
DESCRIPTION:Rad Canyon BMX
LOCATION:5200 W 9800 S  West Jordan UT 84081 USA
SUMMARY:Local Race Single
URL:/site/bmx_races/284722
END:VEVENT
END:VCALENDAR
