BEGIN:VCALENDAR
VERSION:2.0
PRODID:icalendar-ruby
CALSCALE:GREGORIAN
METHOD:PUBLISH
BEGIN:VEVENT
DTSTAMP:20260425T135954Z
UID:a2bbdf23-69a9-4411-8d70-25a1ea3b69b1
DTSTART;VALUE=DATE:20150621
DTEND;VALUE=DATE:20150621
DESCRIPTION:Yucca Valley BMX
LOCATION:6989 Sage Ave  Yucca Valley CA 92234 USA
SUMMARY:Olympic Day Single
URL:/site/bmx_races/284889
END:VEVENT
END:VCALENDAR
