BEGIN:VCALENDAR
VERSION:2.0
PRODID:icalendar-ruby
CALSCALE:GREGORIAN
METHOD:PUBLISH
BEGIN:VEVENT
DTSTAMP:20260423T143804Z
UID:b3a7b392-cade-480a-b491-49a62f8d72ba
DTSTART;VALUE=DATE:20150526
DTEND;VALUE=DATE:20150526
DESCRIPTION:Greater Victoria BMX
LOCATION:1767 Island Hwy  Victoria BC V9B 1J1 CAN
SUMMARY:Local Race Single
URL:/site/bmx_races/285160
END:VEVENT
END:VCALENDAR
