BEGIN:VCALENDAR
VERSION:2.0
PRODID:icalendar-ruby
CALSCALE:GREGORIAN
METHOD:PUBLISH
BEGIN:VEVENT
DTSTAMP:20260423T154829Z
UID:1cd7dee5-dc04-4acb-9732-cce7c7e3876f
DTSTART;VALUE=DATE:20150913
DTEND;VALUE=DATE:20150913
DESCRIPTION:Greater Victoria BMX
LOCATION:1767 Island Hwy  Victoria BC V9B 1J1 CAN
SUMMARY:Local Race Single
URL:/site/bmx_races/285195
END:VEVENT
END:VCALENDAR
