BEGIN:VCALENDAR
VERSION:2.0
PRODID:icalendar-ruby
CALSCALE:GREGORIAN
METHOD:PUBLISH
BEGIN:VEVENT
DTSTAMP:20260422T194701Z
UID:3c75aad7-0d0a-4310-b50e-b1b351e07ed8
DTSTART;VALUE=DATE:20151127
DTEND;VALUE=DATE:20151127
DESCRIPTION:Daytona BMX
LOCATION:1670 Strickland Range Rd  Holly Hill FL 32117 USA
SUMMARY:Local Race Single
URL:/site/bmx_races/285487
END:VEVENT
END:VCALENDAR
