BEGIN:VCALENDAR
VERSION:2.0
PRODID:icalendar-ruby
CALSCALE:GREGORIAN
METHOD:PUBLISH
BEGIN:VEVENT
DTSTAMP:20260423T004401Z
UID:e0ae22ba-6076-4aab-be15-a451c4d7eb24
DTSTART;VALUE=DATE:20150819
DTEND;VALUE=DATE:20150819
DESCRIPTION:Daytona BMX
LOCATION:1670 Strickland Range Rd  Holly Hill FL 32117 USA
SUMMARY:Local Race Single
URL:/site/bmx_races/285525
END:VEVENT
END:VCALENDAR
