BEGIN:VCALENDAR
VERSION:2.0
PRODID:icalendar-ruby
CALSCALE:GREGORIAN
METHOD:PUBLISH
BEGIN:VEVENT
DTSTAMP:20260423T085526Z
UID:fc20a5c5-432a-4076-8adc-3ac413b29185
DTSTART;VALUE=DATE:20150522
DTEND;VALUE=DATE:20150522
DESCRIPTION:Redwood Empire BMX
LOCATION:201 Vance Ave  Samoa CA 95564 USA
SUMMARY:Standard Single
URL:/site/bmx_races/285736
END:VEVENT
END:VCALENDAR
