BEGIN:VCALENDAR
VERSION:2.0
PRODID:icalendar-ruby
CALSCALE:GREGORIAN
METHOD:PUBLISH
BEGIN:VEVENT
DTSTAMP:20260423T004455Z
UID:afa17573-0f9d-4ec7-9b0a-211cd0079388
DTSTART;VALUE=DATE:20151007
DTEND;VALUE=DATE:20151007
DESCRIPTION:Sports Park BMX
LOCATION:6901 N Casa Grande Highway  Tucson AZ 85743 USA
SUMMARY:Local Race Single
URL:/site/bmx_races/285769
END:VEVENT
END:VCALENDAR
