BEGIN:VCALENDAR
VERSION:2.0
PRODID:icalendar-ruby
CALSCALE:GREGORIAN
METHOD:PUBLISH
BEGIN:VEVENT
DTSTAMP:20260422T212624Z
UID:eb4163c6-ae13-4697-9481-4811ff20898c
DTSTART;VALUE=DATE:20151202
DTEND;VALUE=DATE:20151202
DESCRIPTION:Sports Park BMX
LOCATION:6901 N Casa Grande Highway  Tucson AZ 85743 USA
SUMMARY:Local Race Single
URL:/site/bmx_races/285777
END:VEVENT
END:VCALENDAR
