BEGIN:VCALENDAR
VERSION:2.0
PRODID:icalendar-ruby
CALSCALE:GREGORIAN
METHOD:PUBLISH
BEGIN:VEVENT
DTSTAMP:20260420T203022Z
UID:909a2fc1-c4f5-4600-9b49-a87f8fad26ac
DTSTART;VALUE=DATE:20150531
DTEND;VALUE=DATE:20150531
DESCRIPTION:Reno Battleborn BMX
LOCATION:Sun Valley Gid Community Park 115 W 6th Ave Sun Valley NV 89433 US
 A
SUMMARY:Standard Single
URL:/site/bmx_races/286030
END:VEVENT
END:VCALENDAR
