BEGIN:VCALENDAR
VERSION:2.0
PRODID:icalendar-ruby
CALSCALE:GREGORIAN
METHOD:PUBLISH
BEGIN:VEVENT
DTSTAMP:20260419T161414Z
UID:14962f5d-5ce7-4a47-9a03-3ffb20e305d3
DTSTART;VALUE=DATE:20150412
DTEND;VALUE=DATE:20150412
DESCRIPTION:Smoky Mountain BMX
LOCATION:3100 Lorino Park Road  Morristown TN 37813 USA
SUMMARY:Standard Single
URL:/site/bmx_races/286038
END:VEVENT
END:VCALENDAR
