BEGIN:VCALENDAR
VERSION:2.0
PRODID:icalendar-ruby
CALSCALE:GREGORIAN
METHOD:PUBLISH
BEGIN:VEVENT
DTSTAMP:20260424T044303Z
UID:ed6de06b-3a83-4a90-be20-ca315dfc8e98
DTSTART;VALUE=DATE:20150911
DTEND;VALUE=DATE:20150911
DESCRIPTION:Burlington BMX
LOCATION:1450 Graham Street  Burlington NC 27217 USA
SUMMARY:Warnicke Single
URL:/site/bmx_races/286148
END:VEVENT
END:VCALENDAR
