BEGIN:VCALENDAR
VERSION:2.0
PRODID:icalendar-ruby
CALSCALE:GREGORIAN
METHOD:PUBLISH
BEGIN:VEVENT
DTSTAMP:20260422T121609Z
UID:3af6d176-9190-4ffe-acf3-9e2e990e7eff
DTSTART;VALUE=DATE:20150721
DTEND;VALUE=DATE:20150721
DESCRIPTION:Rock City BMX
LOCATION:3300 10 Mile Road  Rockford MI 49341 USA
SUMMARY:Race for Life Single
URL:/site/bmx_races/286424
END:VEVENT
END:VCALENDAR
