BEGIN:VCALENDAR
VERSION:2.0
PRODID:icalendar-ruby
CALSCALE:GREGORIAN
METHOD:PUBLISH
BEGIN:VEVENT
DTSTAMP:20260422T194806Z
UID:1476cc21-4eee-474d-b4ed-2e25f34ffff5
DTSTART;VALUE=DATE:20150825
DTEND;VALUE=DATE:20150825
DESCRIPTION:Sand Springs BMX
LOCATION:2600 S River City Park Rd  Sand Springs OK 74063 USA
SUMMARY:Practice
URL:/site/bmx_races/286822
END:VEVENT
END:VCALENDAR
